BEGIN:VCALENDAR
VERSION:2.0
PRODID:-//Automobile Club Basco-Béarnais - Pau - ECPv6.15.20//NONSGML v1.0//EN
CALSCALE:GREGORIAN
METHOD:PUBLISH
X-ORIGINAL-URL:https://www.automobileclub64.org
X-WR-CALDESC:Évènements pour Automobile Club Basco-Béarnais - Pau
REFRESH-INTERVAL;VALUE=DURATION:PT1H
X-Robots-Tag:noindex
X-PUBLISHED-TTL:PT1H
BEGIN:VTIMEZONE
TZID:Europe/Paris
BEGIN:DAYLIGHT
TZOFFSETFROM:+0100
TZOFFSETTO:+0200
TZNAME:CEST
DTSTART:20250330T010000
END:DAYLIGHT
BEGIN:STANDARD
TZOFFSETFROM:+0200
TZOFFSETTO:+0100
TZNAME:CET
DTSTART:20251026T010000
END:STANDARD
BEGIN:DAYLIGHT
TZOFFSETFROM:+0100
TZOFFSETTO:+0200
TZNAME:CEST
DTSTART:20260329T010000
END:DAYLIGHT
BEGIN:STANDARD
TZOFFSETFROM:+0200
TZOFFSETTO:+0100
TZNAME:CET
DTSTART:20261025T010000
END:STANDARD
BEGIN:DAYLIGHT
TZOFFSETFROM:+0100
TZOFFSETTO:+0200
TZNAME:CEST
DTSTART:20270328T010000
END:DAYLIGHT
BEGIN:STANDARD
TZOFFSETFROM:+0200
TZOFFSETTO:+0100
TZNAME:CET
DTSTART:20271031T010000
END:STANDARD
END:VTIMEZONE
BEGIN:VEVENT
DTSTART;TZID=Europe/Paris:20260206T081500
DTEND;TZID=Europe/Paris:20260207T163000
DTSTAMP:20260424T182227
CREATED:20251127T145315Z
LAST-MODIFIED:20251205T091641Z
UID:10001971-1770365700-1770481800@www.automobileclub64.org
SUMMARY:Stage récupération de points
DESCRIPTION:
URL:https://www.automobileclub64.org/event/recuperation-de-points/
LOCATION:L’Automobile-Club Basco-Béarnais PAU\, Centre Activa 4 allée Catherine de Bourbon\, PAU\, 64000\, France
CATEGORIES:Stages de récupération de points
ORGANIZER;CN="ACBB":MAILTO:acbb.stage@orange.fr
END:VEVENT
BEGIN:VEVENT
DTSTART;TZID=Europe/Paris:20260211T083000
DTEND;TZID=Europe/Paris:20260212T163000
DTSTAMP:20260424T182227
CREATED:20251204T144631Z
LAST-MODIFIED:20251204T144631Z
UID:10001980-1770798600-1770913800@www.automobileclub64.org
SUMMARY:Composition Pénale
DESCRIPTION:
URL:https://www.automobileclub64.org/event/composition-penale-53/
LOCATION:L’Automobile-Club Basco-Béarnais PAU\, Centre Activa 4 allée Catherine de Bourbon\, PAU\, 64000\, France
CATEGORIES:Compositions pénales
ORGANIZER;CN="ACBB":MAILTO:acbb.stage@orange.fr
END:VEVENT
BEGIN:VEVENT
DTSTART;TZID=Europe/Paris:20260220T081500
DTEND;TZID=Europe/Paris:20260221T163000
DTSTAMP:20260424T182227
CREATED:20251127T153916Z
LAST-MODIFIED:20251127T153916Z
UID:10001972-1771575300-1771691400@www.automobileclub64.org
SUMMARY:Stage Récupération de points
DESCRIPTION:
URL:https://www.automobileclub64.org/event/stage-recuperation-de-points/
LOCATION:L’Automobile-Club Basco-Béarnais PAU\, Centre Activa 4 allée Catherine de Bourbon\, PAU\, 64000\, France
CATEGORIES:Stages de récupération de points
ORGANIZER;CN="ACBB":MAILTO:acbb.stage@orange.fr
END:VEVENT
END:VCALENDAR