BEGIN:VCALENDAR
VERSION:2.0
PRODID:-//Automobile Club Basco-Béarnais - Pau - ECPv6.15.20//NONSGML v1.0//EN
CALSCALE:GREGORIAN
METHOD:PUBLISH
X-WR-CALNAME:Automobile Club Basco-Béarnais - Pau
X-ORIGINAL-URL:https://www.automobileclub64.org
X-WR-CALDESC:Évènements pour Automobile Club Basco-Béarnais - Pau
REFRESH-INTERVAL;VALUE=DURATION:PT1H
X-Robots-Tag:noindex
X-PUBLISHED-TTL:PT1H
BEGIN:VTIMEZONE
TZID:Europe/Paris
BEGIN:DAYLIGHT
TZOFFSETFROM:+0100
TZOFFSETTO:+0200
TZNAME:CEST
DTSTART:20240331T010000
END:DAYLIGHT
BEGIN:STANDARD
TZOFFSETFROM:+0200
TZOFFSETTO:+0100
TZNAME:CET
DTSTART:20241027T010000
END:STANDARD
BEGIN:DAYLIGHT
TZOFFSETFROM:+0100
TZOFFSETTO:+0200
TZNAME:CEST
DTSTART:20250330T010000
END:DAYLIGHT
BEGIN:STANDARD
TZOFFSETFROM:+0200
TZOFFSETTO:+0100
TZNAME:CET
DTSTART:20251026T010000
END:STANDARD
BEGIN:DAYLIGHT
TZOFFSETFROM:+0100
TZOFFSETTO:+0200
TZNAME:CEST
DTSTART:20260329T010000
END:DAYLIGHT
BEGIN:STANDARD
TZOFFSETFROM:+0200
TZOFFSETTO:+0100
TZNAME:CET
DTSTART:20261025T010000
END:STANDARD
END:VTIMEZONE
BEGIN:VEVENT
DTSTART;TZID=Europe/Paris:20251210T083000
DTEND;TZID=Europe/Paris:20251211T163000
DTSTAMP:20260424T205341
CREATED:20250411T105757Z
LAST-MODIFIED:20250812T100602Z
UID:10001965-1765355400-1765470600@www.automobileclub64.org
SUMMARY:Composition Pénale
DESCRIPTION:
URL:https://www.automobileclub64.org/event/composition-penale-7/
LOCATION:L’Automobile-Club Basco-Béarnais PAU\, Centre Activa 4 allée Catherine de Bourbon\, PAU\, 64000\, France
CATEGORIES:Compositions pénales
ORGANIZER;CN="ACBB":MAILTO:acbb.stage@orange.fr
END:VEVENT
BEGIN:VEVENT
DTSTART;TZID=Europe/Paris:20251212T090000
DTEND;TZID=Europe/Paris:20251212T173000
DTSTAMP:20260424T205341
CREATED:20250411T112817Z
LAST-MODIFIED:20250414T141134Z
UID:10001966-1765530000-1765560600@www.automobileclub64.org
SUMMARY:Tests Psychotechniques
DESCRIPTION:
URL:https://www.automobileclub64.org/event/tests-psychotechniques-13/
LOCATION:L’Automobile-Club Basco-Béarnais PAU\, Centre Activa 4 allée Catherine de Bourbon\, PAU\, 64000\, France
CATEGORIES:Tests psychotechniques
ORGANIZER;CN="ACBB":MAILTO:acbb.stage@orange.fr
END:VEVENT
BEGIN:VEVENT
DTSTART;TZID=Europe/Paris:20251215T083000
DTEND;TZID=Europe/Paris:20251216T163000
DTSTAMP:20260424T205341
CREATED:20250411T113118Z
LAST-MODIFIED:20251209T081017Z
UID:10001967-1765787400-1765902600@www.automobileclub64.org
SUMMARY:Stage de récupération de points
DESCRIPTION:
URL:https://www.automobileclub64.org/event/stage-de-recuperation-de-points-5/
LOCATION:L’Automobile-Club Basco-Béarnais PAU\, Centre Activa 4 allée Catherine de Bourbon\, PAU\, 64000\, France
CATEGORIES:Stages de récupération de points
ORGANIZER;CN="ACBB":MAILTO:acbb.stage@orange.fr
END:VEVENT
END:VCALENDAR