BEGIN:VCALENDAR
VERSION:2.0
PRODID:-//Automobile Club Basco-Béarnais - Pau - ECPv6.15.20//NONSGML v1.0//EN
CALSCALE:GREGORIAN
METHOD:PUBLISH
X-WR-CALNAME:Automobile Club Basco-Béarnais - Pau
X-ORIGINAL-URL:https://www.automobileclub64.org
X-WR-CALDESC:Évènements pour Automobile Club Basco-Béarnais - Pau
REFRESH-INTERVAL;VALUE=DURATION:PT1H
X-Robots-Tag:noindex
X-PUBLISHED-TTL:PT1H
BEGIN:VTIMEZONE
TZID:Europe/Paris
BEGIN:DAYLIGHT
TZOFFSETFROM:+0100
TZOFFSETTO:+0200
TZNAME:CEST
DTSTART:20240331T010000
END:DAYLIGHT
BEGIN:STANDARD
TZOFFSETFROM:+0200
TZOFFSETTO:+0100
TZNAME:CET
DTSTART:20241027T010000
END:STANDARD
BEGIN:DAYLIGHT
TZOFFSETFROM:+0100
TZOFFSETTO:+0200
TZNAME:CEST
DTSTART:20250330T010000
END:DAYLIGHT
BEGIN:STANDARD
TZOFFSETFROM:+0200
TZOFFSETTO:+0100
TZNAME:CET
DTSTART:20251026T010000
END:STANDARD
BEGIN:DAYLIGHT
TZOFFSETFROM:+0100
TZOFFSETTO:+0200
TZNAME:CEST
DTSTART:20260329T010000
END:DAYLIGHT
BEGIN:STANDARD
TZOFFSETFROM:+0200
TZOFFSETTO:+0100
TZNAME:CET
DTSTART:20261025T010000
END:STANDARD
END:VTIMEZONE
BEGIN:VEVENT
DTSTART;TZID=Europe/Paris:20251107T093000
DTEND;TZID=Europe/Paris:20251107T113000
DTSTAMP:20260424T221749
CREATED:20251021T133918Z
LAST-MODIFIED:20251021T141350Z
UID:10001969-1762507800-1762515000@www.automobileclub64.org
SUMMARY:TABLE RONDE
DESCRIPTION:
URL:https://www.automobileclub64.org/event/table-ronde/
LOCATION:L’Automobile-Club Basco-Béarnais PAU\, Centre Activa 4 allée Catherine de Bourbon\, PAU\, 64000\, France
CATEGORIES:Table ronde
ORGANIZER;CN="ACBB":MAILTO:acbb.stage@orange.fr
END:VEVENT
BEGIN:VEVENT
DTSTART;TZID=Europe/Paris:20251112T083000
DTEND;TZID=Europe/Paris:20251113T163000
DTSTAMP:20260424T221749
CREATED:20250411T094509Z
LAST-MODIFIED:20251103T133701Z
UID:10001963-1762936200-1763051400@www.automobileclub64.org
SUMMARY:Composition Pénale
DESCRIPTION:
URL:https://www.automobileclub64.org/event/composition-penale-6/
LOCATION:L’Automobile-Club Basco-Béarnais PAU\, Centre Activa 4 allée Catherine de Bourbon\, PAU\, 64000\, France
CATEGORIES:Compositions pénales
ORGANIZER;CN="ACBB":MAILTO:acbb.stage@orange.fr
END:VEVENT
BEGIN:VEVENT
DTSTART;TZID=Europe/Paris:20251121T090000
DTEND;TZID=Europe/Paris:20251121T173000
DTSTAMP:20260424T221749
CREATED:20250411T104433Z
LAST-MODIFIED:20251023T122121Z
UID:10001964-1763715600-1763746200@www.automobileclub64.org
SUMMARY:Tests Psychotechniques
DESCRIPTION:
URL:https://www.automobileclub64.org/event/tests-psychotechniques-12/
LOCATION:L’Automobile-Club Basco-Béarnais PAU\, Centre Activa 4 allée Catherine de Bourbon\, PAU\, 64000\, France
CATEGORIES:Tests psychotechniques
ORGANIZER;CN="ACBB":MAILTO:acbb.stage@orange.fr
END:VEVENT
BEGIN:VEVENT
DTSTART;TZID=Europe/Paris:20251128T083000
DTEND;TZID=Europe/Paris:20251129T163000
DTSTAMP:20260424T221749
CREATED:20250411T120904Z
LAST-MODIFIED:20251103T133509Z
UID:10001968-1764318600-1764433800@www.automobileclub64.org
SUMMARY:Stage de récupération de points
DESCRIPTION:
URL:https://www.automobileclub64.org/event/stage-de-recuperation-de-points-6/
LOCATION:L’Automobile-Club Basco-Béarnais PAU\, Centre Activa 4 allée Catherine de Bourbon\, PAU\, 64000\, France
CATEGORIES:Stages de récupération de points
ORGANIZER;CN="ACBB":MAILTO:acbb.stage@orange.fr
END:VEVENT
END:VCALENDAR