BEGIN:VCALENDAR
VERSION:2.0
PRODID:-//Automobile Club Basco-Béarnais - Pau - ECPv6.15.20//NONSGML v1.0//EN
CALSCALE:GREGORIAN
METHOD:PUBLISH
X-ORIGINAL-URL:https://www.automobileclub64.org
X-WR-CALDESC:Évènements pour Automobile Club Basco-Béarnais - Pau
REFRESH-INTERVAL;VALUE=DURATION:PT1H
X-Robots-Tag:noindex
X-PUBLISHED-TTL:PT1H
BEGIN:VTIMEZONE
TZID:Europe/Paris
BEGIN:DAYLIGHT
TZOFFSETFROM:+0100
TZOFFSETTO:+0200
TZNAME:CEST
DTSTART:20240331T010000
END:DAYLIGHT
BEGIN:STANDARD
TZOFFSETFROM:+0200
TZOFFSETTO:+0100
TZNAME:CET
DTSTART:20241027T010000
END:STANDARD
BEGIN:DAYLIGHT
TZOFFSETFROM:+0100
TZOFFSETTO:+0200
TZNAME:CEST
DTSTART:20250330T010000
END:DAYLIGHT
BEGIN:STANDARD
TZOFFSETFROM:+0200
TZOFFSETTO:+0100
TZNAME:CET
DTSTART:20251026T010000
END:STANDARD
BEGIN:DAYLIGHT
TZOFFSETFROM:+0100
TZOFFSETTO:+0200
TZNAME:CEST
DTSTART:20260329T010000
END:DAYLIGHT
BEGIN:STANDARD
TZOFFSETFROM:+0200
TZOFFSETTO:+0100
TZNAME:CET
DTSTART:20261025T010000
END:STANDARD
END:VTIMEZONE
BEGIN:VEVENT
DTSTART;TZID=Europe/Paris:20251022T083000
DTEND;TZID=Europe/Paris:20251023T163000
DTSTAMP:20260424T233552
CREATED:20250411T093928Z
LAST-MODIFIED:20250925T134030Z
UID:10001960-1761121800-1761237000@www.automobileclub64.org
SUMMARY:Composition Pénale
DESCRIPTION:
URL:https://www.automobileclub64.org/event/composition-penale-5/
LOCATION:L’Automobile-Club Basco-Béarnais PAU\, Centre Activa 4 allée Catherine de Bourbon\, PAU\, 64000\, France
CATEGORIES:Compositions pénales
ORGANIZER;CN="ACBB":MAILTO:acbb.stage@orange.fr
END:VEVENT
BEGIN:VEVENT
DTSTART;TZID=Europe/Paris:20251030T083000
DTEND;TZID=Europe/Paris:20251031T163000
DTSTAMP:20260424T233552
CREATED:20250411T094119Z
LAST-MODIFIED:20250925T133838Z
UID:10001961-1761813000-1761928200@www.automobileclub64.org
SUMMARY:Stage de récupération de points
DESCRIPTION:
URL:https://www.automobileclub64.org/event/stage-de-recuperation-de-points-4/
LOCATION:L’Automobile-Club Basco-Béarnais PAU\, Centre Activa 4 allée Catherine de Bourbon\, PAU\, 64000\, France
CATEGORIES:Stages de récupération de points
ORGANIZER;CN="ACBB":MAILTO:acbb.stage@orange.fr
END:VEVENT
BEGIN:VEVENT
DTSTART;TZID=Europe/Paris:20251031T090000
DTEND;TZID=Europe/Paris:20251031T173000
DTSTAMP:20260424T233552
CREATED:20250411T094321Z
LAST-MODIFIED:20251023T064445Z
UID:10001962-1761901200-1761931800@www.automobileclub64.org
SUMMARY:Tests Psychotechniques
DESCRIPTION:
URL:https://www.automobileclub64.org/event/tests-psychotechniques-11/
LOCATION:L’Automobile-Club Basco-Béarnais PAU\, Centre Activa 4 allée Catherine de Bourbon\, PAU\, 64000\, France
CATEGORIES:Tests psychotechniques
ORGANIZER;CN="ACBB":MAILTO:acbb.stage@orange.fr
END:VEVENT
END:VCALENDAR