BEGIN:VCALENDAR
VERSION:2.0
PRODID:-//Automobile Club Basco-Béarnais - Pau - ECPv6.15.20//NONSGML v1.0//EN
CALSCALE:GREGORIAN
METHOD:PUBLISH
X-ORIGINAL-URL:https://www.automobileclub64.org
X-WR-CALDESC:Évènements pour Automobile Club Basco-Béarnais - Pau
REFRESH-INTERVAL;VALUE=DURATION:PT1H
X-Robots-Tag:noindex
X-PUBLISHED-TTL:PT1H
BEGIN:VTIMEZONE
TZID:Europe/Paris
BEGIN:DAYLIGHT
TZOFFSETFROM:+0100
TZOFFSETTO:+0200
TZNAME:CEST
DTSTART:20240331T010000
END:DAYLIGHT
BEGIN:STANDARD
TZOFFSETFROM:+0200
TZOFFSETTO:+0100
TZNAME:CET
DTSTART:20241027T010000
END:STANDARD
BEGIN:DAYLIGHT
TZOFFSETFROM:+0100
TZOFFSETTO:+0200
TZNAME:CEST
DTSTART:20250330T010000
END:DAYLIGHT
BEGIN:STANDARD
TZOFFSETFROM:+0200
TZOFFSETTO:+0100
TZNAME:CET
DTSTART:20251026T010000
END:STANDARD
BEGIN:DAYLIGHT
TZOFFSETFROM:+0100
TZOFFSETTO:+0200
TZNAME:CEST
DTSTART:20260329T010000
END:DAYLIGHT
BEGIN:STANDARD
TZOFFSETFROM:+0200
TZOFFSETTO:+0100
TZNAME:CET
DTSTART:20261025T010000
END:STANDARD
END:VTIMEZONE
BEGIN:VEVENT
DTSTART;TZID=Europe/Paris:20250606T090000
DTEND;TZID=Europe/Paris:20250606T180000
DTSTAMP:20260425T054204
CREATED:20241227T150239Z
LAST-MODIFIED:20250512T075502Z
UID:10001933-1749200400-1749232800@www.automobileclub64.org
SUMMARY:TESTS PSYCHOTECHNIQUES
DESCRIPTION:
URL:https://www.automobileclub64.org/event/tests-psychotechniques-8/
LOCATION:L’Automobile-Club Basco-Béarnais PAU\, Centre Activa 4 allée Catherine de Bourbon\, PAU\, 64000\, France
CATEGORIES:Tests psychotechniques
ORGANIZER;CN="ACBB":MAILTO:acbb.stage@orange.fr
END:VEVENT
BEGIN:VEVENT
DTSTART;TZID=Europe/Paris:20250610T083000
DTEND;TZID=Europe/Paris:20250611T163000
DTSTAMP:20260425T054204
CREATED:20241227T144423Z
LAST-MODIFIED:20250411T074317Z
UID:10001927-1749544200-1749659400@www.automobileclub64.org
SUMMARY:COMPOSITION PENALE
DESCRIPTION:
URL:https://www.automobileclub64.org/event/composition-penale-51/
LOCATION:L’Automobile-Club Basco-Béarnais PAU\, Centre Activa 4 allée Catherine de Bourbon\, PAU\, 64000\, France
CATEGORIES:Compositions pénales
ORGANIZER;CN="ACBB":MAILTO:acbb.stage@orange.fr
END:VEVENT
BEGIN:VEVENT
DTSTART;TZID=Europe/Paris:20250613T083000
DTEND;TZID=Europe/Paris:20250614T163000
DTSTAMP:20260425T054204
CREATED:20241227T142808Z
LAST-MODIFIED:20250512T075233Z
UID:10001921-1749803400-1749918600@www.automobileclub64.org
SUMMARY:STAGE DE RECUPERATION DE POINTS
DESCRIPTION:
URL:https://www.automobileclub64.org/event/stage-de-recuperation-de-points-64/
LOCATION:L’Automobile-Club Basco-Béarnais PAU\, Centre Activa 4 allée Catherine de Bourbon\, PAU\, 64000\, France
CATEGORIES:Stages de récupération de points
ORGANIZER;CN="ACBB":MAILTO:acbb.stage@orange.fr
END:VEVENT
END:VCALENDAR